BEGIN:VCALENDAR
VERSION:2.0
PRODID:-//eventon.com NONSGML v1.0//EN
CALSCALE:GREGORIAN
METHOD:PUBLISH
BEGIN:VEVENT
UID:69e84af35ceaa
DTSTAMP:20260422T041339Z
DTSTART:20190811T083000Z
DTEND:20190811T120000Z
LOCATION:Petite Ile La Croisée
SUMMARY:Sur les Terres de Rémy
DESCRIPTION:Régulièrement\,  nous nous rendons sur les champs de nos prod
 ucteurs pour les accompagner et les suivre dans leur démarche d&rsquo;agri
 culture bio et respectueuse de l&rsquo;environnement\,  en lien avec notre 
 charte agricole. Une équipe du CA\,  dont des producteurs\,   se donne re
 ndez vous  A cette occasion\,  les adhérents sont invités à[..]\nhttps:
 //asso-arec.fr/events/sur-les-terres-de-remy/
URL:https://asso-arec.fr/events/sur-les-terres-de-remy/
END:VEVENT
END:VCALENDAR