BEGIN:VCALENDAR
VERSION:2.0
PRODID:-//eventon.com NONSGML v1.0//EN
CALSCALE:GREGORIAN
METHOD:PUBLISH
BEGIN:VEVENT
UID:69e73054ca3f0
DTSTAMP:20260421T080748Z
DTSTART:20180721T120000Z
DTEND:20180721T150000Z
LOCATION:marché Solidari&#039;terre 5 rue du verger Hémery
SUMMARY:Repas partage / Réunion d'organisation des Rencontres
DESCRIPTION:Samedi 21 juillet\,  le marché se prolonge. On se retrouve pou
 r un repas partage convivial\,  Chacun amène son petit plat\,  sa petite b
 oisson\,  sa bonne humeur. On en profite pour mettre en place le comité d&
 rsquo;organisation des prochaines Rencontres Solidari&rsquo;Terre (13 et 14
  octobre). On compte sur chacune et chacun[..]\nhttps://asso-arec.fr/events
 /repas-partage-reunion-dorganisation-des-rencontres/
URL:https://asso-arec.fr/events/repas-partage-reunion-dorganisation-des-rencontres/
END:VEVENT
END:VCALENDAR